BEGIN:VCALENDAR
VERSION:2.0
PRODID:-//Belmont City College - ECPv4.9.3.1//NONSGML v1.0//EN
CALSCALE:GREGORIAN
METHOD:PUBLISH
X-WR-CALNAME:Belmont City College
X-ORIGINAL-URL:https://www.belmontcc.wa.edu.au
X-WR-CALDESC:Events for Belmont City College
BEGIN:VEVENT
DTSTART;VALUE=DATE:20200303
DTEND;VALUE=DATE:20200304
DTSTAMP:20200301T223721
CREATED:20200211T023600Z
LAST-MODIFIED:20200211T023615Z
UID:9934-1583193600-1583279999@www.belmontcc.wa.edu.au
SUMMARY:OLNA
DESCRIPTION:
URL:https://www.belmontcc.wa.edu.au/event/olna/2020-03-03/
LOCATION:Belmont City College\, 106 Fisher Street\, BELMONT\, WA\, 6104\, Australia
CATEGORIES:Students
END:VEVENT
END:VCALENDAR