BEGIN:VCALENDAR
VERSION:2.0
PRODID:-//Belmont City College - ECPv4.9.3.1//NONSGML v1.0//EN
CALSCALE:GREGORIAN
METHOD:PUBLISH
X-WR-CALNAME:Belmont City College
X-ORIGINAL-URL:https://www.belmontcc.wa.edu.au
X-WR-CALDESC:Events for Belmont City College
BEGIN:VEVENT
DTSTART;TZID=Australia/Perth:20200203T083500
DTEND;TZID=Australia/Perth:20200203T145600
DTSTAMP:20200301T224223
CREATED:20191219T070456Z
LAST-MODIFIED:20191219T072319Z
UID:8993-1580718900-1580741760@www.belmontcc.wa.edu.au
SUMMARY:Student first day of Term 1
DESCRIPTION:
URL:https://www.belmontcc.wa.edu.au/event/student-first-day-of-term-1/
LOCATION:Belmont City College\, 106 Fisher Street\, BELMONT\, WA\, 6104\, Australia
CATEGORIES:Students
END:VEVENT
END:VCALENDAR