BEGIN:VCALENDAR
VERSION:2.0
PRODID:-//Belmont City College - ECPv4.9.3.1//NONSGML v1.0//EN
CALSCALE:GREGORIAN
METHOD:PUBLISH
X-WR-CALNAME:Belmont City College
X-ORIGINAL-URL:https://www.belmontcc.wa.edu.au
X-WR-CALDESC:Events for Belmont City College
BEGIN:VEVENT
DTSTART;TZID=Australia/Perth:20200205T144500
DTEND;TZID=Australia/Perth:20200205T153000
DTSTAMP:20200301T224351
CREATED:20200131T072513Z
LAST-MODIFIED:20200131T073123Z
UID:9208-1580913900-1580916600@www.belmontcc.wa.edu.au
SUMMARY:Percussion Ensemble Practice
DESCRIPTION:
URL:https://www.belmontcc.wa.edu.au/event/percussion-ensemble-practice/2020-02-05/
LOCATION:Belmont City College\, 106 Fisher Street\, BELMONT\, WA\, 6104\, Australia
CATEGORIES:Students
END:VEVENT
BEGIN:VEVENT
DTSTART;TZID=Australia/Perth:20200205T153000
DTEND;TZID=Australia/Perth:20200205T163000
DTSTAMP:20200301T224351
CREATED:20200131T073252Z
LAST-MODIFIED:20200131T073526Z
UID:9222-1580916600-1580920200@www.belmontcc.wa.edu.au
SUMMARY:Junior Band Practice
DESCRIPTION:
URL:https://www.belmontcc.wa.edu.au/event/junior-band-practice/2020-02-05/
LOCATION:Belmont City College\, 106 Fisher Street\, BELMONT\, WA\, 6104\, Australia
CATEGORIES:Students
END:VEVENT
END:VCALENDAR