BEGIN:VCALENDAR
VERSION:2.0
PRODID:-//Belmont City College - ECPv4.9.3.1//NONSGML v1.0//EN
CALSCALE:GREGORIAN
METHOD:PUBLISH
X-WR-CALNAME:Belmont City College
X-ORIGINAL-URL:https://www.belmontcc.wa.edu.au
X-WR-CALDESC:Events for Belmont City College
BEGIN:VEVENT
DTSTART;VALUE=DATE:20200213
DTEND;VALUE=DATE:20200214
DTSTAMP:20200301T224959
CREATED:20200131T075459Z
LAST-MODIFIED:20200131T075519Z
UID:9274-1581552000-1581638399@www.belmontcc.wa.edu.au
SUMMARY:Year 7 Photos
DESCRIPTION:
URL:https://www.belmontcc.wa.edu.au/event/year-7-photos/
LOCATION:Belmont City College\, 106 Fisher Street\, BELMONT\, WA\, 6104\, Australia
CATEGORIES:Students
END:VEVENT
BEGIN:VEVENT
DTSTART;TZID=Australia/Perth:20200213T030000
DTEND;TZID=Australia/Perth:20200213T160000
DTSTAMP:20200301T224959
CREATED:20200131T074400Z
LAST-MODIFIED:20200131T074400Z
UID:9244-1581562800-1581609600@www.belmontcc.wa.edu.au
SUMMARY:Vocal Ensemble Practice
DESCRIPTION:
URL:https://www.belmontcc.wa.edu.au/event/vocal-ensemble-practice/2020-02-13/
LOCATION:Belmont City College\, 106 Fisher Street\, BELMONT\, WA\, 6104\, Australia
CATEGORIES:Students
END:VEVENT
BEGIN:VEVENT
DTSTART;TZID=Australia/Perth:20200213T150000
DTEND;TZID=Australia/Perth:20200213T160000
DTSTAMP:20200301T224959
CREATED:20200131T070339Z
LAST-MODIFIED:20200131T070931Z
UID:9197-1581606000-1581609600@www.belmontcc.wa.edu.au
SUMMARY:Homework Club in Library
DESCRIPTION:
URL:https://www.belmontcc.wa.edu.au/event/homework-club-in-library-2/2020-02-13/
LOCATION:Belmont City College\, 106 Fisher Street\, BELMONT\, WA\, 6104\, Australia
CATEGORIES:Students
END:VEVENT
BEGIN:VEVENT
DTSTART;TZID=Australia/Perth:20200213T150000
DTEND;TZID=Australia/Perth:20200213T160000
DTSTAMP:20200301T224959
CREATED:20200131T074846Z
LAST-MODIFIED:20200131T074846Z
UID:9255-1581606000-1581609600@www.belmontcc.wa.edu.au
SUMMARY:Senior Fusion Band Practice
DESCRIPTION:
URL:https://www.belmontcc.wa.edu.au/event/senior-fusion-band-practice/2020-02-13/
LOCATION:Belmont City College\, 106 Fisher Street\, BELMONT\, WA\, 6104\, Australia
CATEGORIES:Students
END:VEVENT
END:VCALENDAR