BEGIN:VCALENDAR
VERSION:2.0
PRODID:-//Belmont City College - ECPv4.9.3.1//NONSGML v1.0//EN
CALSCALE:GREGORIAN
METHOD:PUBLISH
X-WR-CALNAME:Belmont City College
X-ORIGINAL-URL:https://www.belmontcc.wa.edu.au
X-WR-CALDESC:Events for Belmont City College
BEGIN:VEVENT
DTSTART;TZID=Australia/Perth:20200220T030000
DTEND;TZID=Australia/Perth:20200220T160000
DTSTAMP:20200301T225734
CREATED:20200131T074400Z
LAST-MODIFIED:20200131T074400Z
UID:9245-1582167600-1582214400@www.belmontcc.wa.edu.au
SUMMARY:Vocal Ensemble Practice
DESCRIPTION:
URL:https://www.belmontcc.wa.edu.au/event/vocal-ensemble-practice/2020-02-20/
LOCATION:Belmont City College\, 106 Fisher Street\, BELMONT\, WA\, 6104\, Australia
CATEGORIES:Students
END:VEVENT
BEGIN:VEVENT
DTSTART;TZID=Australia/Perth:20200220T150000
DTEND;TZID=Australia/Perth:20200220T160000
DTSTAMP:20200301T225734
CREATED:20200131T070339Z
LAST-MODIFIED:20200131T070339Z
UID:9200-1582210800-1582214400@www.belmontcc.wa.edu.au
SUMMARY:Homework Club in Library
DESCRIPTION:
URL:https://www.belmontcc.wa.edu.au/event/homework-club-in-library-2/2020-02-20/
LOCATION:Belmont City College\, 106 Fisher Street\, BELMONT\, WA\, 6104\, Australia
CATEGORIES:Students
END:VEVENT
BEGIN:VEVENT
DTSTART;TZID=Australia/Perth:20200220T150000
DTEND;TZID=Australia/Perth:20200220T160000
DTSTAMP:20200301T225734
CREATED:20200131T074846Z
LAST-MODIFIED:20200131T074846Z
UID:9256-1582210800-1582214400@www.belmontcc.wa.edu.au
SUMMARY:Senior Fusion Band Practice
DESCRIPTION:
URL:https://www.belmontcc.wa.edu.au/event/senior-fusion-band-practice/2020-02-20/
LOCATION:Belmont City College\, 106 Fisher Street\, BELMONT\, WA\, 6104\, Australia
CATEGORIES:Students
END:VEVENT
END:VCALENDAR