BEGIN:VCALENDAR
VERSION:2.0
PRODID:-//Belmont City College - ECPv4.9.3.1//NONSGML v1.0//EN
CALSCALE:GREGORIAN
METHOD:PUBLISH
X-WR-CALNAME:Belmont City College
X-ORIGINAL-URL:https://www.belmontcc.wa.edu.au
X-WR-CALDESC:Events for Belmont City College
BEGIN:VEVENT
DTSTART;VALUE=DATE:20200222
DTEND;VALUE=DATE:20200223
DTSTAMP:20200301T230046
CREATED:20200211T054703Z
LAST-MODIFIED:20200211T054703Z
UID:10006-1582329600-1582415999@www.belmontcc.wa.edu.au
SUMMARY:Hosting ADOBA Conducting Clinic
DESCRIPTION:
URL:https://www.belmontcc.wa.edu.au/event/hosting-adoba-conducting-clinic-2/2020-02-22/
LOCATION:Belmont City College\, 106 Fisher Street\, BELMONT\, WA\, 6104\, Australia
CATEGORIES:Drama
END:VEVENT
END:VCALENDAR