BEGIN:VCALENDAR
VERSION:2.0
PRODID:-//Belmont City College - ECPv4.9.3.1//NONSGML v1.0//EN
CALSCALE:GREGORIAN
METHOD:PUBLISH
X-WR-CALNAME:Belmont City College
X-ORIGINAL-URL:https://www.belmontcc.wa.edu.au
X-WR-CALDESC:Events for Belmont City College
BEGIN:VEVENT
DTSTART;VALUE=DATE:20200228
DTEND;VALUE=DATE:20200229
DTSTAMP:20200301T230721
CREATED:20200204T034919Z
LAST-MODIFIED:20200204T034947Z
UID:9309-1582848000-1582934399@www.belmontcc.wa.edu.au
SUMMARY:Year 7 to 12 School Swimming Carnival - Competitors only
DESCRIPTION:
URL:https://www.belmontcc.wa.edu.au/event/year-7-to-12-school-swimming-carnival-competitors-only/
LOCATION:Belmont City College\, 106 Fisher Street\, BELMONT\, WA\, 6104\, Australia
CATEGORIES:Students
END:VEVENT
BEGIN:VEVENT
DTSTART;TZID=Australia/Perth:20200228T150000
DTEND;TZID=Australia/Perth:20200228T160000
DTSTAMP:20200301T230721
CREATED:20200131T075103Z
LAST-MODIFIED:20200131T075103Z
UID:9268-1582902000-1582905600@www.belmontcc.wa.edu.au
SUMMARY:Junior Fusion Band Practice
DESCRIPTION:
URL:https://www.belmontcc.wa.edu.au/event/junior-fusion-band-practice/2020-02-28/
LOCATION:Belmont City College\, 106 Fisher Street\, BELMONT\, WA\, 6104\, Australia
CATEGORIES:Students
END:VEVENT
END:VCALENDAR