BEGIN:VCALENDAR
VERSION:2.0
PRODID:-//Belmont City College - ECPv4.9.3.1//NONSGML v1.0//EN
CALSCALE:GREGORIAN
METHOD:PUBLISH
X-WR-CALNAME:Belmont City College
X-ORIGINAL-URL:https://www.belmontcc.wa.edu.au
X-WR-CALDESC:Events for Belmont City College
BEGIN:VEVENT
DTSTART;TZID=Australia/Perth:20200302T083500
DTEND;TZID=Australia/Perth:20200302T145600
DTSTAMP:20200301T224002
CREATED:20191219T071032Z
LAST-MODIFIED:20191219T072340Z
UID:9003-1583138100-1583160960@www.belmontcc.wa.edu.au
SUMMARY:Student & Staff Free/ Labour Day Public Holiday
DESCRIPTION:
URL:https://www.belmontcc.wa.edu.au/event/student-staff-free-labour-day-public-holiday/
LOCATION:Belmont City College\, 106 Fisher Street\, BELMONT\, WA\, 6104\, Australia
CATEGORIES:School,Students
END:VEVENT
END:VCALENDAR