BEGIN:VCALENDAR
VERSION:2.0
PRODID:-//Belmont City College - ECPv6.15.20//NONSGML v1.0//EN
CALSCALE:GREGORIAN
METHOD:PUBLISH
X-WR-CALNAME:Belmont City College
X-ORIGINAL-URL:https://www.belmontcc.wa.edu.au
X-WR-CALDESC:Events for Belmont City College
REFRESH-INTERVAL;VALUE=DURATION:PT1H
X-Robots-Tag:noindex
X-PUBLISHED-TTL:PT1H
BEGIN:VTIMEZONE
TZID:Australia/Perth
BEGIN:STANDARD
TZOFFSETFROM:+0800
TZOFFSETTO:+0800
TZNAME:AWST
DTSTART:20240101T000000
END:STANDARD
END:VTIMEZONE
BEGIN:VEVENT
DTSTART;VALUE=DATE:20250908
DTEND;VALUE=DATE:20250913
DTSTAMP:20260419T200517
CREATED:20250205T074248Z
LAST-MODIFIED:20250205T074248Z
UID:10003556-1757289600-1757721599@www.belmontcc.wa.edu.au
SUMMARY:Year 11 & 12 OLNA
DESCRIPTION:
URL:https://www.belmontcc.wa.edu.au/event/year-11-12-olna-11/
LOCATION:Belmont City College\, 108 Fisher Street\, Belmont\, WA\, 6104\, Australia
CATEGORIES:OLNA,Parents,School,Students
ORGANIZER;CN="Belmont City College":MAILTO:belmontcc@belmontcc.wa.edu.au
END:VEVENT
BEGIN:VEVENT
DTSTART;TZID=Australia/Perth:20250910T083000
DTEND;TZID=Australia/Perth:20250910T150000
DTSTAMP:20260419T200517
CREATED:20250205T074459Z
LAST-MODIFIED:20250205T074500Z
UID:10003558-1757493000-1757516400@www.belmontcc.wa.edu.au
SUMMARY:Year 7 & Year 10 Immunisations Catch-up Day
DESCRIPTION:
URL:https://www.belmontcc.wa.edu.au/event/year-7-year-10-immunisations-catch-up-day/
LOCATION:Belmont City College\, 108 Fisher Street\, Belmont\, WA\, 6104\, Australia
CATEGORIES:Immunisations,Parents,School,Students
ORGANIZER;CN="Belmont City College":MAILTO:belmontcc@belmontcc.wa.edu.au
END:VEVENT
BEGIN:VEVENT
DTSTART;TZID=Australia/Perth:20250910T144500
DTEND;TZID=Australia/Perth:20250910T153000
DTSTAMP:20260419T200517
CREATED:20250130T035226Z
LAST-MODIFIED:20250130T035407Z
UID:10003040-1757515500-1757518200@www.belmontcc.wa.edu.au
SUMMARY:Percussion Ensemble Practise
DESCRIPTION:
URL:https://www.belmontcc.wa.edu.au/event/percussion-ensemble-practise-3/2025-09-10/
LOCATION:Belmont City College\, 108 Fisher Street\, Belmont\, WA\, 6104\, Australia
CATEGORIES:Music Practise,School,Students
ORGANIZER;CN="Belmont City College":MAILTO:belmontcc@belmontcc.wa.edu.au
END:VEVENT
BEGIN:VEVENT
DTSTART;TZID=Australia/Perth:20250910T153000
DTEND;TZID=Australia/Perth:20250910T163000
DTSTAMP:20260419T200517
CREATED:20250130T040808Z
LAST-MODIFIED:20250130T040808Z
UID:10003261-1757518200-1757521800@www.belmontcc.wa.edu.au
SUMMARY:Junior Band Practise
DESCRIPTION:
URL:https://www.belmontcc.wa.edu.au/event/junior-band-practise-3/2025-09-10/
LOCATION:Belmont City College\, 108 Fisher Street\, Belmont\, WA\, 6104\, Australia
CATEGORIES:Music Practise,School,Students
ORGANIZER;CN="Belmont City College":MAILTO:belmontcc@belmontcc.wa.edu.au
END:VEVENT
END:VCALENDAR