BEGIN:VCALENDAR
VERSION:2.0
PRODID:-//Belmont City College - ECPv6.15.20//NONSGML v1.0//EN
CALSCALE:GREGORIAN
METHOD:PUBLISH
X-WR-CALNAME:Belmont City College
X-ORIGINAL-URL:https://www.belmontcc.wa.edu.au
X-WR-CALDESC:Events for Belmont City College
REFRESH-INTERVAL;VALUE=DURATION:PT1H
X-Robots-Tag:noindex
X-PUBLISHED-TTL:PT1H
BEGIN:VTIMEZONE
TZID:Australia/Perth
BEGIN:STANDARD
TZOFFSETFROM:+0800
TZOFFSETTO:+0800
TZNAME:AWST
DTSTART:20240101T000000
END:STANDARD
END:VTIMEZONE
BEGIN:VEVENT
DTSTART;TZID=Australia/Perth:20250328T150000
DTEND;TZID=Australia/Perth:20250328T160000
DTSTAMP:20260423T021229
CREATED:20250130T040132Z
LAST-MODIFIED:20250130T040132Z
UID:10003095-1743174000-1743177600@www.belmontcc.wa.edu.au
SUMMARY:Junior Fusion Band Practise
DESCRIPTION:
URL:https://www.belmontcc.wa.edu.au/event/junior-fusion-band-practise-3/2025-03-28/
LOCATION:Belmont City College\, 108 Fisher Street\, Belmont\, WA\, 6104\, Australia
CATEGORIES:Music Practise,School,Students
ORGANIZER;CN="Belmont City College":MAILTO:belmontcc@belmontcc.wa.edu.au
END:VEVENT
BEGIN:VEVENT
DTSTART;TZID=Australia/Perth:20250327T150000
DTEND;TZID=Australia/Perth:20250327T160000
DTSTAMP:20260423T021229
CREATED:20250130T052952Z
LAST-MODIFIED:20250130T052952Z
UID:10003392-1743087600-1743091200@www.belmontcc.wa.edu.au
SUMMARY:Senior Fusion Band Practise
DESCRIPTION:
URL:https://www.belmontcc.wa.edu.au/event/senior-fusion-band-practise-3/2025-03-27/
LOCATION:Belmont City College\, 108 Fisher Street\, Belmont\, WA\, 6104\, Australia
CATEGORIES:Music Practise,School,Students
ORGANIZER;CN="Belmont City College":MAILTO:belmontcc@belmontcc.wa.edu.au
END:VEVENT
BEGIN:VEVENT
DTSTART;TZID=Australia/Perth:20250327T150000
DTEND;TZID=Australia/Perth:20250327T160000
DTSTAMP:20260423T021229
CREATED:20250130T041232Z
LAST-MODIFIED:20250130T041232Z
UID:10003317-1743087600-1743091200@www.belmontcc.wa.edu.au
SUMMARY:Vocal Ensemble Practise
DESCRIPTION:
URL:https://www.belmontcc.wa.edu.au/event/vocal-ensemble-practise-3/2025-03-27/
LOCATION:Belmont City College\, 108 Fisher Street\, Belmont\, WA\, 6104\, Australia
CATEGORIES:Music Practise,School,Students
ORGANIZER;CN="Belmont City College":MAILTO:belmontcc@belmontcc.wa.edu.au
END:VEVENT
BEGIN:VEVENT
DTSTART;TZID=Australia/Perth:20250326T153000
DTEND;TZID=Australia/Perth:20250326T163000
DTSTAMP:20260423T021229
CREATED:20250130T040808Z
LAST-MODIFIED:20250130T040808Z
UID:10003241-1743003000-1743006600@www.belmontcc.wa.edu.au
SUMMARY:Junior Band Practise
DESCRIPTION:
URL:https://www.belmontcc.wa.edu.au/event/junior-band-practise-3/2025-03-26/
LOCATION:Belmont City College\, 108 Fisher Street\, Belmont\, WA\, 6104\, Australia
CATEGORIES:Music Practise,School,Students
ORGANIZER;CN="Belmont City College":MAILTO:belmontcc@belmontcc.wa.edu.au
END:VEVENT
BEGIN:VEVENT
DTSTART;TZID=Australia/Perth:20250326T144500
DTEND;TZID=Australia/Perth:20250326T153000
DTSTAMP:20260423T021229
CREATED:20250130T035226Z
LAST-MODIFIED:20250130T035407Z
UID:10003020-1743000300-1743003000@www.belmontcc.wa.edu.au
SUMMARY:Percussion Ensemble Practise
DESCRIPTION:
URL:https://www.belmontcc.wa.edu.au/event/percussion-ensemble-practise-3/2025-03-26/
LOCATION:Belmont City College\, 108 Fisher Street\, Belmont\, WA\, 6104\, Australia
CATEGORIES:Music Practise,School,Students
ORGANIZER;CN="Belmont City College":MAILTO:belmontcc@belmontcc.wa.edu.au
END:VEVENT
BEGIN:VEVENT
DTSTART;TZID=Australia/Perth:20250325T150000
DTEND;TZID=Australia/Perth:20250325T163000
DTSTAMP:20260423T021229
CREATED:20250130T053729Z
LAST-MODIFIED:20250130T053729Z
UID:10003469-1742914800-1742920200@www.belmontcc.wa.edu.au
SUMMARY:Senior Concert Band Practise
DESCRIPTION:
URL:https://www.belmontcc.wa.edu.au/event/senior-concert-band-practise-4/2025-03-25/
LOCATION:Belmont City College\, 108 Fisher Street\, Belmont\, WA\, 6104\, Australia
CATEGORIES:Music Practise,School,Students
ORGANIZER;CN="Belmont City College":MAILTO:belmontcc@belmontcc.wa.edu.au
END:VEVENT
BEGIN:VEVENT
DTSTART;TZID=Australia/Perth:20250325T150000
DTEND;TZID=Australia/Perth:20250325T160000
DTSTAMP:20260423T021230
CREATED:20250130T054332Z
LAST-MODIFIED:20250130T054332Z
UID:10003508-1742914800-1742918400@www.belmontcc.wa.edu.au
SUMMARY:Homework Club - Library
DESCRIPTION:
URL:https://www.belmontcc.wa.edu.au/event/homework-club-library/2025-03-25/
LOCATION:Belmont City College\, 108 Fisher Street\, Belmont\, WA\, 6104\, Australia
CATEGORIES:Parents,School,Students
ORGANIZER;CN="Belmont City College":MAILTO:belmontcc@belmontcc.wa.edu.au
END:VEVENT
BEGIN:VEVENT
DTSTART;TZID=Australia/Perth:20250324T000000
DTEND;TZID=Australia/Perth:20250324T000000
DTSTAMP:20260423T021230
CREATED:20241211T051050Z
LAST-MODIFIED:20250130T072940Z
UID:10002972-1742774400-1742774400@www.belmontcc.wa.edu.au
SUMMARY:Year 7 & 9 NAPLAN - LAST DAY
DESCRIPTION:
URL:https://www.belmontcc.wa.edu.au/event/year-7-9-naplan-last-day/
LOCATION:Belmont City College\, 108 Fisher Street\, Belmont\, WA\, 6104\, Australia
CATEGORIES:NAPLAN,Parents,School,Students
ORGANIZER;CN="Belmont City College":MAILTO:belmontcc@belmontcc.wa.edu.au
END:VEVENT
BEGIN:VEVENT
DTSTART;TZID=Australia/Perth:20250321T150000
DTEND;TZID=Australia/Perth:20250321T160000
DTSTAMP:20260423T021230
CREATED:20250130T040132Z
LAST-MODIFIED:20250130T040132Z
UID:10003094-1742569200-1742572800@www.belmontcc.wa.edu.au
SUMMARY:Junior Fusion Band Practise
DESCRIPTION:
URL:https://www.belmontcc.wa.edu.au/event/junior-fusion-band-practise-3/2025-03-21/
LOCATION:Belmont City College\, 108 Fisher Street\, Belmont\, WA\, 6104\, Australia
CATEGORIES:Music Practise,School,Students
ORGANIZER;CN="Belmont City College":MAILTO:belmontcc@belmontcc.wa.edu.au
END:VEVENT
BEGIN:VEVENT
DTSTART;TZID=Australia/Perth:20250320T150000
DTEND;TZID=Australia/Perth:20250320T160000
DTSTAMP:20260423T021230
CREATED:20250130T052952Z
LAST-MODIFIED:20250130T052952Z
UID:10003391-1742482800-1742486400@www.belmontcc.wa.edu.au
SUMMARY:Senior Fusion Band Practise
DESCRIPTION:
URL:https://www.belmontcc.wa.edu.au/event/senior-fusion-band-practise-3/2025-03-20/
LOCATION:Belmont City College\, 108 Fisher Street\, Belmont\, WA\, 6104\, Australia
CATEGORIES:Music Practise,School,Students
ORGANIZER;CN="Belmont City College":MAILTO:belmontcc@belmontcc.wa.edu.au
END:VEVENT
BEGIN:VEVENT
DTSTART;TZID=Australia/Perth:20250320T150000
DTEND;TZID=Australia/Perth:20250320T160000
DTSTAMP:20260423T021230
CREATED:20250130T041232Z
LAST-MODIFIED:20250130T041232Z
UID:10003316-1742482800-1742486400@www.belmontcc.wa.edu.au
SUMMARY:Vocal Ensemble Practise
DESCRIPTION:
URL:https://www.belmontcc.wa.edu.au/event/vocal-ensemble-practise-3/2025-03-20/
LOCATION:Belmont City College\, 108 Fisher Street\, Belmont\, WA\, 6104\, Australia
CATEGORIES:Music Practise,School,Students
ORGANIZER;CN="Belmont City College":MAILTO:belmontcc@belmontcc.wa.edu.au
END:VEVENT
BEGIN:VEVENT
DTSTART;TZID=Australia/Perth:20250319T153000
DTEND;TZID=Australia/Perth:20250319T163000
DTSTAMP:20260423T021230
CREATED:20250130T040808Z
LAST-MODIFIED:20250130T040808Z
UID:10003240-1742398200-1742401800@www.belmontcc.wa.edu.au
SUMMARY:Junior Band Practise
DESCRIPTION:
URL:https://www.belmontcc.wa.edu.au/event/junior-band-practise-3/2025-03-19/
LOCATION:Belmont City College\, 108 Fisher Street\, Belmont\, WA\, 6104\, Australia
CATEGORIES:Music Practise,School,Students
ORGANIZER;CN="Belmont City College":MAILTO:belmontcc@belmontcc.wa.edu.au
END:VEVENT
BEGIN:VEVENT
DTSTART;TZID=Australia/Perth:20250319T144500
DTEND;TZID=Australia/Perth:20250319T153000
DTSTAMP:20260423T021230
CREATED:20250130T035226Z
LAST-MODIFIED:20250130T035407Z
UID:10003019-1742395500-1742398200@www.belmontcc.wa.edu.au
SUMMARY:Percussion Ensemble Practise
DESCRIPTION:
URL:https://www.belmontcc.wa.edu.au/event/percussion-ensemble-practise-3/2025-03-19/
LOCATION:Belmont City College\, 108 Fisher Street\, Belmont\, WA\, 6104\, Australia
CATEGORIES:Music Practise,School,Students
ORGANIZER;CN="Belmont City College":MAILTO:belmontcc@belmontcc.wa.edu.au
END:VEVENT
BEGIN:VEVENT
DTSTART;TZID=Australia/Perth:20250318T150000
DTEND;TZID=Australia/Perth:20250318T163000
DTSTAMP:20260423T021230
CREATED:20250130T053729Z
LAST-MODIFIED:20250130T053729Z
UID:10003468-1742310000-1742315400@www.belmontcc.wa.edu.au
SUMMARY:Senior Concert Band Practise
DESCRIPTION:
URL:https://www.belmontcc.wa.edu.au/event/senior-concert-band-practise-4/2025-03-18/
LOCATION:Belmont City College\, 108 Fisher Street\, Belmont\, WA\, 6104\, Australia
CATEGORIES:Music Practise,School,Students
ORGANIZER;CN="Belmont City College":MAILTO:belmontcc@belmontcc.wa.edu.au
END:VEVENT
BEGIN:VEVENT
DTSTART;TZID=Australia/Perth:20250318T150000
DTEND;TZID=Australia/Perth:20250318T160000
DTSTAMP:20260423T021230
CREATED:20250130T054332Z
LAST-MODIFIED:20250130T054332Z
UID:10003507-1742310000-1742313600@www.belmontcc.wa.edu.au
SUMMARY:Homework Club - Library
DESCRIPTION:
URL:https://www.belmontcc.wa.edu.au/event/homework-club-library/2025-03-18/
LOCATION:Belmont City College\, 108 Fisher Street\, Belmont\, WA\, 6104\, Australia
CATEGORIES:Parents,School,Students
ORGANIZER;CN="Belmont City College":MAILTO:belmontcc@belmontcc.wa.edu.au
END:VEVENT
BEGIN:VEVENT
DTSTART;TZID=Australia/Perth:20250317T080000
DTEND;TZID=Australia/Perth:20250318T150000
DTSTAMP:20260423T021230
CREATED:20250130T071237Z
LAST-MODIFIED:20250130T071600Z
UID:10003536-1742198400-1742310000@www.belmontcc.wa.edu.au
SUMMARY:Year 10 Immunisations Meningococcal ACWY
DESCRIPTION:
URL:https://www.belmontcc.wa.edu.au/event/year-10-immunisations-meningococcal-acwy/
LOCATION:Belmont City College\, 108 Fisher Street\, Belmont\, WA\, 6104\, Australia
CATEGORIES:Immunisations,Parents,School,Students
ORGANIZER;CN="Belmont City College":MAILTO:belmontcc@belmontcc.wa.edu.au
END:VEVENT
BEGIN:VEVENT
DTSTART;TZID=Australia/Perth:20250317T000000
DTEND;TZID=Australia/Perth:20250321T000000
DTSTAMP:20260423T021230
CREATED:20241211T050926Z
LAST-MODIFIED:20250130T073022Z
UID:10002971-1742169600-1742515200@www.belmontcc.wa.edu.au
SUMMARY:Year 7 & 9 NAPLAN
DESCRIPTION:
URL:https://www.belmontcc.wa.edu.au/event/year-7-9-naplan-8/
LOCATION:Belmont City College\, 108 Fisher Street\, Belmont\, WA\, 6104\, Australia
CATEGORIES:NAPLAN,Parents,School,Students
ORGANIZER;CN="Belmont City College":MAILTO:belmontcc@belmontcc.wa.edu.au
END:VEVENT
BEGIN:VEVENT
DTSTART;TZID=Australia/Perth:20250314T150000
DTEND;TZID=Australia/Perth:20250314T160000
DTSTAMP:20260423T021230
CREATED:20250130T040132Z
LAST-MODIFIED:20250130T040132Z
UID:10003093-1741964400-1741968000@www.belmontcc.wa.edu.au
SUMMARY:Junior Fusion Band Practise
DESCRIPTION:
URL:https://www.belmontcc.wa.edu.au/event/junior-fusion-band-practise-3/2025-03-14/
LOCATION:Belmont City College\, 108 Fisher Street\, Belmont\, WA\, 6104\, Australia
CATEGORIES:Music Practise,School,Students
ORGANIZER;CN="Belmont City College":MAILTO:belmontcc@belmontcc.wa.edu.au
END:VEVENT
BEGIN:VEVENT
DTSTART;TZID=Australia/Perth:20250313T150000
DTEND;TZID=Australia/Perth:20250313T160000
DTSTAMP:20260423T021230
CREATED:20250130T052952Z
LAST-MODIFIED:20250130T052952Z
UID:10003390-1741878000-1741881600@www.belmontcc.wa.edu.au
SUMMARY:Senior Fusion Band Practise
DESCRIPTION:
URL:https://www.belmontcc.wa.edu.au/event/senior-fusion-band-practise-3/2025-03-13/
LOCATION:Belmont City College\, 108 Fisher Street\, Belmont\, WA\, 6104\, Australia
CATEGORIES:Music Practise,School,Students
ORGANIZER;CN="Belmont City College":MAILTO:belmontcc@belmontcc.wa.edu.au
END:VEVENT
BEGIN:VEVENT
DTSTART;TZID=Australia/Perth:20250313T150000
DTEND;TZID=Australia/Perth:20250313T160000
DTSTAMP:20260423T021230
CREATED:20250130T041232Z
LAST-MODIFIED:20250130T041232Z
UID:10003315-1741878000-1741881600@www.belmontcc.wa.edu.au
SUMMARY:Vocal Ensemble Practise
DESCRIPTION:
URL:https://www.belmontcc.wa.edu.au/event/vocal-ensemble-practise-3/2025-03-13/
LOCATION:Belmont City College\, 108 Fisher Street\, Belmont\, WA\, 6104\, Australia
CATEGORIES:Music Practise,School,Students
ORGANIZER;CN="Belmont City College":MAILTO:belmontcc@belmontcc.wa.edu.au
END:VEVENT
BEGIN:VEVENT
DTSTART;TZID=Australia/Perth:20250312T153000
DTEND;TZID=Australia/Perth:20250312T163000
DTSTAMP:20260423T021230
CREATED:20250130T040808Z
LAST-MODIFIED:20250130T040808Z
UID:10003239-1741793400-1741797000@www.belmontcc.wa.edu.au
SUMMARY:Junior Band Practise
DESCRIPTION:
URL:https://www.belmontcc.wa.edu.au/event/junior-band-practise-3/2025-03-12/
LOCATION:Belmont City College\, 108 Fisher Street\, Belmont\, WA\, 6104\, Australia
CATEGORIES:Music Practise,School,Students
ORGANIZER;CN="Belmont City College":MAILTO:belmontcc@belmontcc.wa.edu.au
END:VEVENT
BEGIN:VEVENT
DTSTART;TZID=Australia/Perth:20250312T144500
DTEND;TZID=Australia/Perth:20250312T153000
DTSTAMP:20260423T021230
CREATED:20250130T035226Z
LAST-MODIFIED:20250130T035407Z
UID:10003018-1741790700-1741793400@www.belmontcc.wa.edu.au
SUMMARY:Percussion Ensemble Practise
DESCRIPTION:
URL:https://www.belmontcc.wa.edu.au/event/percussion-ensemble-practise-3/2025-03-12/
LOCATION:Belmont City College\, 108 Fisher Street\, Belmont\, WA\, 6104\, Australia
CATEGORIES:Music Practise,School,Students
ORGANIZER;CN="Belmont City College":MAILTO:belmontcc@belmontcc.wa.edu.au
END:VEVENT
BEGIN:VEVENT
DTSTART;TZID=Australia/Perth:20250312T000000
DTEND;TZID=Australia/Perth:20250314T000000
DTSTAMP:20260423T021230
CREATED:20241211T050800Z
LAST-MODIFIED:20250130T073055Z
UID:10002970-1741737600-1741910400@www.belmontcc.wa.edu.au
SUMMARY:Year 7 & 9 NAPLAN
DESCRIPTION:
URL:https://www.belmontcc.wa.edu.au/event/year-7-9-naplan-7/
LOCATION:Belmont City College\, 108 Fisher Street\, Belmont\, WA\, 6104\, Australia
CATEGORIES:NAPLAN,Parents,School,Students
ORGANIZER;CN="Belmont City College":MAILTO:belmontcc@belmontcc.wa.edu.au
END:VEVENT
BEGIN:VEVENT
DTSTART;TZID=Australia/Perth:20250311T150000
DTEND;TZID=Australia/Perth:20250311T163000
DTSTAMP:20260423T021230
CREATED:20250130T053729Z
LAST-MODIFIED:20250130T053729Z
UID:10003467-1741705200-1741710600@www.belmontcc.wa.edu.au
SUMMARY:Senior Concert Band Practise
DESCRIPTION:
URL:https://www.belmontcc.wa.edu.au/event/senior-concert-band-practise-4/2025-03-11/
LOCATION:Belmont City College\, 108 Fisher Street\, Belmont\, WA\, 6104\, Australia
CATEGORIES:Music Practise,School,Students
ORGANIZER;CN="Belmont City College":MAILTO:belmontcc@belmontcc.wa.edu.au
END:VEVENT
BEGIN:VEVENT
DTSTART;TZID=Australia/Perth:20250311T150000
DTEND;TZID=Australia/Perth:20250311T160000
DTSTAMP:20260423T021230
CREATED:20250130T054332Z
LAST-MODIFIED:20250130T054332Z
UID:10003506-1741705200-1741708800@www.belmontcc.wa.edu.au
SUMMARY:Homework Club - Library
DESCRIPTION:
URL:https://www.belmontcc.wa.edu.au/event/homework-club-library/2025-03-11/
LOCATION:Belmont City College\, 108 Fisher Street\, Belmont\, WA\, 6104\, Australia
CATEGORIES:Parents,School,Students
ORGANIZER;CN="Belmont City College":MAILTO:belmontcc@belmontcc.wa.edu.au
END:VEVENT
BEGIN:VEVENT
DTSTART;TZID=Australia/Perth:20250310T184500
DTEND;TZID=Australia/Perth:20250310T220000
DTSTAMP:20260423T021230
CREATED:20250217T060614Z
LAST-MODIFIED:20250217T060614Z
UID:10003580-1741632300-1741644000@www.belmontcc.wa.edu.au
SUMMARY:Perspective Drama Excursion
DESCRIPTION:
URL:https://www.belmontcc.wa.edu.au/event/perspective-drama-excursion/
LOCATION:His Majesties Threatre\, 827-905 Hay St\, Perth\, WA\, 6000\, Australia
CATEGORIES:Drama,Parents,School,Students
ORGANIZER;CN="Belmont City College":MAILTO:belmontcc@belmontcc.wa.edu.au
END:VEVENT
BEGIN:VEVENT
DTSTART;VALUE=DATE:20250310
DTEND;VALUE=DATE:20250315
DTSTAMP:20260423T021230
CREATED:20241211T050546Z
LAST-MODIFIED:20250130T073209Z
UID:10002968-1741564800-1741996799@www.belmontcc.wa.edu.au
SUMMARY:Year 11 & 12 OLNA
DESCRIPTION:
URL:https://www.belmontcc.wa.edu.au/event/year-11-12-olna-10/
LOCATION:Belmont City College\, 108 Fisher Street\, Belmont\, WA\, 6104\, Australia
CATEGORIES:OLNA,Parents,School,Students
ORGANIZER;CN="Belmont City College":MAILTO:belmontcc@belmontcc.wa.edu.au
END:VEVENT
BEGIN:VEVENT
DTSTART;TZID=Australia/Perth:20250307T150000
DTEND;TZID=Australia/Perth:20250307T160000
DTSTAMP:20260423T021230
CREATED:20250130T040132Z
LAST-MODIFIED:20250130T040132Z
UID:10003092-1741359600-1741363200@www.belmontcc.wa.edu.au
SUMMARY:Junior Fusion Band Practise
DESCRIPTION:
URL:https://www.belmontcc.wa.edu.au/event/junior-fusion-band-practise-3/2025-03-07/
LOCATION:Belmont City College\, 108 Fisher Street\, Belmont\, WA\, 6104\, Australia
CATEGORIES:Music Practise,School,Students
ORGANIZER;CN="Belmont City College":MAILTO:belmontcc@belmontcc.wa.edu.au
END:VEVENT
BEGIN:VEVENT
DTSTART;TZID=Australia/Perth:20250306T150000
DTEND;TZID=Australia/Perth:20250306T160000
DTSTAMP:20260423T021230
CREATED:20250130T052952Z
LAST-MODIFIED:20250130T052952Z
UID:10003389-1741273200-1741276800@www.belmontcc.wa.edu.au
SUMMARY:Senior Fusion Band Practise
DESCRIPTION:
URL:https://www.belmontcc.wa.edu.au/event/senior-fusion-band-practise-3/2025-03-06/
LOCATION:Belmont City College\, 108 Fisher Street\, Belmont\, WA\, 6104\, Australia
CATEGORIES:Music Practise,School,Students
ORGANIZER;CN="Belmont City College":MAILTO:belmontcc@belmontcc.wa.edu.au
END:VEVENT
BEGIN:VEVENT
DTSTART;TZID=Australia/Perth:20250306T150000
DTEND;TZID=Australia/Perth:20250306T160000
DTSTAMP:20260423T021230
CREATED:20250130T041232Z
LAST-MODIFIED:20250130T041232Z
UID:10003314-1741273200-1741276800@www.belmontcc.wa.edu.au
SUMMARY:Vocal Ensemble Practise
DESCRIPTION:
URL:https://www.belmontcc.wa.edu.au/event/vocal-ensemble-practise-3/2025-03-06/
LOCATION:Belmont City College\, 108 Fisher Street\, Belmont\, WA\, 6104\, Australia
CATEGORIES:Music Practise,School,Students
ORGANIZER;CN="Belmont City College":MAILTO:belmontcc@belmontcc.wa.edu.au
END:VEVENT
END:VCALENDAR