BEGIN:VCALENDAR
VERSION:2.0
PRODID:-//Belmont City College - ECPv6.15.20//NONSGML v1.0//EN
CALSCALE:GREGORIAN
METHOD:PUBLISH
X-WR-CALNAME:Belmont City College
X-ORIGINAL-URL:https://www.belmontcc.wa.edu.au
X-WR-CALDESC:Events for Belmont City College
REFRESH-INTERVAL;VALUE=DURATION:PT1H
X-Robots-Tag:noindex
X-PUBLISHED-TTL:PT1H
BEGIN:VTIMEZONE
TZID:Australia/Perth
BEGIN:STANDARD
TZOFFSETFROM:+0800
TZOFFSETTO:+0800
TZNAME:AWST
DTSTART:20240101T000000
END:STANDARD
END:VTIMEZONE
BEGIN:VEVENT
DTSTART;TZID=Australia/Perth:20250905T150000
DTEND;TZID=Australia/Perth:20250905T160000
DTSTAMP:20260420T060503
CREATED:20250130T040132Z
LAST-MODIFIED:20250130T040132Z
UID:10003112-1757084400-1757088000@www.belmontcc.wa.edu.au
SUMMARY:Junior Fusion Band Practise
DESCRIPTION:
URL:https://www.belmontcc.wa.edu.au/event/junior-fusion-band-practise-3/2025-09-05/
LOCATION:Belmont City College\, 108 Fisher Street\, Belmont\, WA\, 6104\, Australia
CATEGORIES:Music Practise,School,Students
ORGANIZER;CN="Belmont City College":MAILTO:belmontcc@belmontcc.wa.edu.au
END:VEVENT
BEGIN:VEVENT
DTSTART;TZID=Australia/Perth:20250905T183000
DTEND;TZID=Australia/Perth:20250905T230000
DTSTAMP:20260420T060503
CREATED:20250205T074104Z
LAST-MODIFIED:20250205T074104Z
UID:10003555-1757097000-1757113200@www.belmontcc.wa.edu.au
SUMMARY:BCC School Ball @ Duxton Hotel Perth
DESCRIPTION:
URL:https://www.belmontcc.wa.edu.au/event/bcc-school-ball-duxton-hotel-perth/
LOCATION:WA
CATEGORIES:Parents,School,Students
ORGANIZER;CN="Belmont City College":MAILTO:belmontcc@belmontcc.wa.edu.au
END:VEVENT
BEGIN:VEVENT
DTSTART;VALUE=DATE:20250908
DTEND;VALUE=DATE:20250913
DTSTAMP:20260420T060503
CREATED:20250205T074248Z
LAST-MODIFIED:20250205T074248Z
UID:10003556-1757289600-1757721599@www.belmontcc.wa.edu.au
SUMMARY:Year 11 & 12 OLNA
DESCRIPTION:
URL:https://www.belmontcc.wa.edu.au/event/year-11-12-olna-11/
LOCATION:Belmont City College\, 108 Fisher Street\, Belmont\, WA\, 6104\, Australia
CATEGORIES:OLNA,Parents,School,Students
ORGANIZER;CN="Belmont City College":MAILTO:belmontcc@belmontcc.wa.edu.au
END:VEVENT
BEGIN:VEVENT
DTSTART;TZID=Australia/Perth:20250909T150000
DTEND;TZID=Australia/Perth:20250909T160000
DTSTAMP:20260420T060503
CREATED:20250130T054332Z
LAST-MODIFIED:20250130T054332Z
UID:10003524-1757430000-1757433600@www.belmontcc.wa.edu.au
SUMMARY:Homework Club - Library
DESCRIPTION:
URL:https://www.belmontcc.wa.edu.au/event/homework-club-library/2025-09-09/
LOCATION:Belmont City College\, 108 Fisher Street\, Belmont\, WA\, 6104\, Australia
CATEGORIES:Parents,School,Students
ORGANIZER;CN="Belmont City College":MAILTO:belmontcc@belmontcc.wa.edu.au
END:VEVENT
BEGIN:VEVENT
DTSTART;TZID=Australia/Perth:20250909T150000
DTEND;TZID=Australia/Perth:20250909T163000
DTSTAMP:20260420T060503
CREATED:20250130T053729Z
LAST-MODIFIED:20250130T053729Z
UID:10003489-1757430000-1757435400@www.belmontcc.wa.edu.au
SUMMARY:Senior Concert Band Practise
DESCRIPTION:
URL:https://www.belmontcc.wa.edu.au/event/senior-concert-band-practise-4/2025-09-09/
LOCATION:Belmont City College\, 108 Fisher Street\, Belmont\, WA\, 6104\, Australia
CATEGORIES:Music Practise,School,Students
ORGANIZER;CN="Belmont City College":MAILTO:belmontcc@belmontcc.wa.edu.au
END:VEVENT
BEGIN:VEVENT
DTSTART;TZID=Australia/Perth:20250910T083000
DTEND;TZID=Australia/Perth:20250910T150000
DTSTAMP:20260420T060503
CREATED:20250205T074459Z
LAST-MODIFIED:20250205T074500Z
UID:10003558-1757493000-1757516400@www.belmontcc.wa.edu.au
SUMMARY:Year 7 & Year 10 Immunisations Catch-up Day
DESCRIPTION:
URL:https://www.belmontcc.wa.edu.au/event/year-7-year-10-immunisations-catch-up-day/
LOCATION:Belmont City College\, 108 Fisher Street\, Belmont\, WA\, 6104\, Australia
CATEGORIES:Immunisations,Parents,School,Students
ORGANIZER;CN="Belmont City College":MAILTO:belmontcc@belmontcc.wa.edu.au
END:VEVENT
BEGIN:VEVENT
DTSTART;TZID=Australia/Perth:20250910T144500
DTEND;TZID=Australia/Perth:20250910T153000
DTSTAMP:20260420T060503
CREATED:20250130T035226Z
LAST-MODIFIED:20250130T035407Z
UID:10003040-1757515500-1757518200@www.belmontcc.wa.edu.au
SUMMARY:Percussion Ensemble Practise
DESCRIPTION:
URL:https://www.belmontcc.wa.edu.au/event/percussion-ensemble-practise-3/2025-09-10/
LOCATION:Belmont City College\, 108 Fisher Street\, Belmont\, WA\, 6104\, Australia
CATEGORIES:Music Practise,School,Students
ORGANIZER;CN="Belmont City College":MAILTO:belmontcc@belmontcc.wa.edu.au
END:VEVENT
BEGIN:VEVENT
DTSTART;TZID=Australia/Perth:20250910T153000
DTEND;TZID=Australia/Perth:20250910T163000
DTSTAMP:20260420T060503
CREATED:20250130T040808Z
LAST-MODIFIED:20250130T040808Z
UID:10003261-1757518200-1757521800@www.belmontcc.wa.edu.au
SUMMARY:Junior Band Practise
DESCRIPTION:
URL:https://www.belmontcc.wa.edu.au/event/junior-band-practise-3/2025-09-10/
LOCATION:Belmont City College\, 108 Fisher Street\, Belmont\, WA\, 6104\, Australia
CATEGORIES:Music Practise,School,Students
ORGANIZER;CN="Belmont City College":MAILTO:belmontcc@belmontcc.wa.edu.au
END:VEVENT
BEGIN:VEVENT
DTSTART;TZID=Australia/Perth:20250911T150000
DTEND;TZID=Australia/Perth:20250911T160000
DTSTAMP:20260420T060503
CREATED:20250130T041232Z
LAST-MODIFIED:20250130T041232Z
UID:10003337-1757602800-1757606400@www.belmontcc.wa.edu.au
SUMMARY:Vocal Ensemble Practise
DESCRIPTION:
URL:https://www.belmontcc.wa.edu.au/event/vocal-ensemble-practise-3/2025-09-11/
LOCATION:Belmont City College\, 108 Fisher Street\, Belmont\, WA\, 6104\, Australia
CATEGORIES:Music Practise,School,Students
ORGANIZER;CN="Belmont City College":MAILTO:belmontcc@belmontcc.wa.edu.au
END:VEVENT
BEGIN:VEVENT
DTSTART;TZID=Australia/Perth:20250911T150000
DTEND;TZID=Australia/Perth:20250911T160000
DTSTAMP:20260420T060503
CREATED:20250130T052952Z
LAST-MODIFIED:20250130T052952Z
UID:10003412-1757602800-1757606400@www.belmontcc.wa.edu.au
SUMMARY:Senior Fusion Band Practise
DESCRIPTION:
URL:https://www.belmontcc.wa.edu.au/event/senior-fusion-band-practise-3/2025-09-11/
LOCATION:Belmont City College\, 108 Fisher Street\, Belmont\, WA\, 6104\, Australia
CATEGORIES:Music Practise,School,Students
ORGANIZER;CN="Belmont City College":MAILTO:belmontcc@belmontcc.wa.edu.au
END:VEVENT
BEGIN:VEVENT
DTSTART;TZID=Australia/Perth:20250912T150000
DTEND;TZID=Australia/Perth:20250912T160000
DTSTAMP:20260420T060503
CREATED:20250130T040132Z
LAST-MODIFIED:20250130T040132Z
UID:10003113-1757689200-1757692800@www.belmontcc.wa.edu.au
SUMMARY:Junior Fusion Band Practise
DESCRIPTION:
URL:https://www.belmontcc.wa.edu.au/event/junior-fusion-band-practise-3/2025-09-12/
LOCATION:Belmont City College\, 108 Fisher Street\, Belmont\, WA\, 6104\, Australia
CATEGORIES:Music Practise,School,Students
ORGANIZER;CN="Belmont City College":MAILTO:belmontcc@belmontcc.wa.edu.au
END:VEVENT
BEGIN:VEVENT
DTSTART;VALUE=DATE:20250915
DTEND;VALUE=DATE:20250920
DTSTAMP:20260420T060503
CREATED:20250205T074319Z
LAST-MODIFIED:20250205T074319Z
UID:10003557-1757894400-1758326399@www.belmontcc.wa.edu.au
SUMMARY:Year 11 & 12 OLNA
DESCRIPTION:
URL:https://www.belmontcc.wa.edu.au/event/year-11-12-olna-12/
LOCATION:Belmont City College\, 108 Fisher Street\, Belmont\, WA\, 6104\, Australia
CATEGORIES:OLNA,Parents,School,Students
ORGANIZER;CN="Belmont City College":MAILTO:belmontcc@belmontcc.wa.edu.au
END:VEVENT
BEGIN:VEVENT
DTSTART;TZID=Australia/Perth:20250916T150000
DTEND;TZID=Australia/Perth:20250916T160000
DTSTAMP:20260420T060503
CREATED:20250130T054332Z
LAST-MODIFIED:20250130T054332Z
UID:10003525-1758034800-1758038400@www.belmontcc.wa.edu.au
SUMMARY:Homework Club - Library
DESCRIPTION:
URL:https://www.belmontcc.wa.edu.au/event/homework-club-library/2025-09-16/
LOCATION:Belmont City College\, 108 Fisher Street\, Belmont\, WA\, 6104\, Australia
CATEGORIES:Parents,School,Students
ORGANIZER;CN="Belmont City College":MAILTO:belmontcc@belmontcc.wa.edu.au
END:VEVENT
BEGIN:VEVENT
DTSTART;TZID=Australia/Perth:20250916T150000
DTEND;TZID=Australia/Perth:20250916T163000
DTSTAMP:20260420T060503
CREATED:20250130T053729Z
LAST-MODIFIED:20250130T053729Z
UID:10003490-1758034800-1758040200@www.belmontcc.wa.edu.au
SUMMARY:Senior Concert Band Practise
DESCRIPTION:
URL:https://www.belmontcc.wa.edu.au/event/senior-concert-band-practise-4/2025-09-16/
LOCATION:Belmont City College\, 108 Fisher Street\, Belmont\, WA\, 6104\, Australia
CATEGORIES:Music Practise,School,Students
ORGANIZER;CN="Belmont City College":MAILTO:belmontcc@belmontcc.wa.edu.au
END:VEVENT
BEGIN:VEVENT
DTSTART;TZID=Australia/Perth:20250917T144500
DTEND;TZID=Australia/Perth:20250917T153000
DTSTAMP:20260420T060503
CREATED:20250130T035226Z
LAST-MODIFIED:20250130T035407Z
UID:10003041-1758120300-1758123000@www.belmontcc.wa.edu.au
SUMMARY:Percussion Ensemble Practise
DESCRIPTION:
URL:https://www.belmontcc.wa.edu.au/event/percussion-ensemble-practise-3/2025-09-17/
LOCATION:Belmont City College\, 108 Fisher Street\, Belmont\, WA\, 6104\, Australia
CATEGORIES:Music Practise,School,Students
ORGANIZER;CN="Belmont City College":MAILTO:belmontcc@belmontcc.wa.edu.au
END:VEVENT
BEGIN:VEVENT
DTSTART;TZID=Australia/Perth:20250917T153000
DTEND;TZID=Australia/Perth:20250917T163000
DTSTAMP:20260420T060503
CREATED:20250130T040808Z
LAST-MODIFIED:20250130T040808Z
UID:10003262-1758123000-1758126600@www.belmontcc.wa.edu.au
SUMMARY:Junior Band Practise
DESCRIPTION:
URL:https://www.belmontcc.wa.edu.au/event/junior-band-practise-3/2025-09-17/
LOCATION:Belmont City College\, 108 Fisher Street\, Belmont\, WA\, 6104\, Australia
CATEGORIES:Music Practise,School,Students
ORGANIZER;CN="Belmont City College":MAILTO:belmontcc@belmontcc.wa.edu.au
END:VEVENT
BEGIN:VEVENT
DTSTART;TZID=Australia/Perth:20250917T153000
DTEND;TZID=Australia/Perth:20250917T190000
DTSTAMP:20260420T060503
CREATED:20250205T074825Z
LAST-MODIFIED:20250205T074825Z
UID:10003559-1758123000-1758135600@www.belmontcc.wa.edu.au
SUMMARY:Parent - Teacher Interviews
DESCRIPTION:
URL:https://www.belmontcc.wa.edu.au/event/parent-teacher-interviews/
LOCATION:Belmont City College\, 108 Fisher Street\, Belmont\, WA\, 6104\, Australia
CATEGORIES:Parents,School,Students
ORGANIZER;CN="Belmont City College":MAILTO:belmontcc@belmontcc.wa.edu.au
END:VEVENT
BEGIN:VEVENT
DTSTART;TZID=Australia/Perth:20250918T150000
DTEND;TZID=Australia/Perth:20250918T160000
DTSTAMP:20260420T060503
CREATED:20250130T041232Z
LAST-MODIFIED:20250130T041232Z
UID:10003338-1758207600-1758211200@www.belmontcc.wa.edu.au
SUMMARY:Vocal Ensemble Practise
DESCRIPTION:
URL:https://www.belmontcc.wa.edu.au/event/vocal-ensemble-practise-3/2025-09-18/
LOCATION:Belmont City College\, 108 Fisher Street\, Belmont\, WA\, 6104\, Australia
CATEGORIES:Music Practise,School,Students
ORGANIZER;CN="Belmont City College":MAILTO:belmontcc@belmontcc.wa.edu.au
END:VEVENT
BEGIN:VEVENT
DTSTART;TZID=Australia/Perth:20250918T150000
DTEND;TZID=Australia/Perth:20250918T160000
DTSTAMP:20260420T060503
CREATED:20250130T052952Z
LAST-MODIFIED:20250130T052952Z
UID:10003413-1758207600-1758211200@www.belmontcc.wa.edu.au
SUMMARY:Senior Fusion Band Practise
DESCRIPTION:
URL:https://www.belmontcc.wa.edu.au/event/senior-fusion-band-practise-3/2025-09-18/
LOCATION:Belmont City College\, 108 Fisher Street\, Belmont\, WA\, 6104\, Australia
CATEGORIES:Music Practise,School,Students
ORGANIZER;CN="Belmont City College":MAILTO:belmontcc@belmontcc.wa.edu.au
END:VEVENT
BEGIN:VEVENT
DTSTART;TZID=Australia/Perth:20250919T150000
DTEND;TZID=Australia/Perth:20250919T160000
DTSTAMP:20260420T060503
CREATED:20250130T040132Z
LAST-MODIFIED:20250130T040132Z
UID:10003114-1758294000-1758297600@www.belmontcc.wa.edu.au
SUMMARY:Junior Fusion Band Practise
DESCRIPTION:
URL:https://www.belmontcc.wa.edu.au/event/junior-fusion-band-practise-3/2025-09-19/
LOCATION:Belmont City College\, 108 Fisher Street\, Belmont\, WA\, 6104\, Australia
CATEGORIES:Music Practise,School,Students
ORGANIZER;CN="Belmont City College":MAILTO:belmontcc@belmontcc.wa.edu.au
END:VEVENT
BEGIN:VEVENT
DTSTART;TZID=Australia/Perth:20250923T150000
DTEND;TZID=Australia/Perth:20250923T163000
DTSTAMP:20260420T060503
CREATED:20250130T053729Z
LAST-MODIFIED:20250130T053729Z
UID:10003491-1758639600-1758645000@www.belmontcc.wa.edu.au
SUMMARY:Senior Concert Band Practise
DESCRIPTION:
URL:https://www.belmontcc.wa.edu.au/event/senior-concert-band-practise-4/2025-09-23/
LOCATION:Belmont City College\, 108 Fisher Street\, Belmont\, WA\, 6104\, Australia
CATEGORIES:Music Practise,School,Students
ORGANIZER;CN="Belmont City College":MAILTO:belmontcc@belmontcc.wa.edu.au
END:VEVENT
BEGIN:VEVENT
DTSTART;TZID=Australia/Perth:20250924T144500
DTEND;TZID=Australia/Perth:20250924T153000
DTSTAMP:20260420T060503
CREATED:20250130T035226Z
LAST-MODIFIED:20250130T035407Z
UID:10003042-1758725100-1758727800@www.belmontcc.wa.edu.au
SUMMARY:Percussion Ensemble Practise
DESCRIPTION:
URL:https://www.belmontcc.wa.edu.au/event/percussion-ensemble-practise-3/2025-09-24/
LOCATION:Belmont City College\, 108 Fisher Street\, Belmont\, WA\, 6104\, Australia
CATEGORIES:Music Practise,School,Students
ORGANIZER;CN="Belmont City College":MAILTO:belmontcc@belmontcc.wa.edu.au
END:VEVENT
BEGIN:VEVENT
DTSTART;TZID=Australia/Perth:20250924T153000
DTEND;TZID=Australia/Perth:20250924T163000
DTSTAMP:20260420T060503
CREATED:20250130T040808Z
LAST-MODIFIED:20250130T040808Z
UID:10003263-1758727800-1758731400@www.belmontcc.wa.edu.au
SUMMARY:Junior Band Practise
DESCRIPTION:
URL:https://www.belmontcc.wa.edu.au/event/junior-band-practise-3/2025-09-24/
LOCATION:Belmont City College\, 108 Fisher Street\, Belmont\, WA\, 6104\, Australia
CATEGORIES:Music Practise,School,Students
ORGANIZER;CN="Belmont City College":MAILTO:belmontcc@belmontcc.wa.edu.au
END:VEVENT
BEGIN:VEVENT
DTSTART;TZID=Australia/Perth:20250925T150000
DTEND;TZID=Australia/Perth:20250925T160000
DTSTAMP:20260420T060503
CREATED:20250130T041232Z
LAST-MODIFIED:20250130T041232Z
UID:10003339-1758812400-1758816000@www.belmontcc.wa.edu.au
SUMMARY:Vocal Ensemble Practise
DESCRIPTION:
URL:https://www.belmontcc.wa.edu.au/event/vocal-ensemble-practise-3/2025-09-25/
LOCATION:Belmont City College\, 108 Fisher Street\, Belmont\, WA\, 6104\, Australia
CATEGORIES:Music Practise,School,Students
ORGANIZER;CN="Belmont City College":MAILTO:belmontcc@belmontcc.wa.edu.au
END:VEVENT
BEGIN:VEVENT
DTSTART;TZID=Australia/Perth:20250925T150000
DTEND;TZID=Australia/Perth:20250925T160000
DTSTAMP:20260420T060503
CREATED:20250130T052952Z
LAST-MODIFIED:20250130T052952Z
UID:10003414-1758812400-1758816000@www.belmontcc.wa.edu.au
SUMMARY:Senior Fusion Band Practise
DESCRIPTION:
URL:https://www.belmontcc.wa.edu.au/event/senior-fusion-band-practise-3/2025-09-25/
LOCATION:Belmont City College\, 108 Fisher Street\, Belmont\, WA\, 6104\, Australia
CATEGORIES:Music Practise,School,Students
ORGANIZER;CN="Belmont City College":MAILTO:belmontcc@belmontcc.wa.edu.au
END:VEVENT
BEGIN:VEVENT
DTSTART;VALUE=DATE:20250926
DTEND;VALUE=DATE:20250927
DTSTAMP:20260420T060503
CREATED:20250205T074940Z
LAST-MODIFIED:20250205T075334Z
UID:10003561-1758844800-1758931199@www.belmontcc.wa.edu.au
SUMMARY:END OF TERM 3
DESCRIPTION:
URL:https://www.belmontcc.wa.edu.au/event/end-of-term-3-3/
LOCATION:Belmont City College\, 108 Fisher Street\, Belmont\, WA\, 6104\, Australia
CATEGORIES:Parents,School,Students
ORGANIZER;CN="Belmont City College":MAILTO:belmontcc@belmontcc.wa.edu.au
END:VEVENT
BEGIN:VEVENT
DTSTART;TZID=Australia/Perth:20250926T083000
DTEND;TZID=Australia/Perth:20250926T150000
DTSTAMP:20260420T060503
CREATED:20250205T075048Z
LAST-MODIFIED:20250206T040807Z
UID:10003560-1758875400-1758898800@www.belmontcc.wa.edu.au
SUMMARY:Year 12 Final Assembly - LAST DAY for YEAR 12 students
DESCRIPTION:
URL:https://www.belmontcc.wa.edu.au/event/year-12-final-assembly-last-day-for-year-12-student/
LOCATION:Belmont City College\, 108 Fisher Street\, Belmont\, WA\, 6104\, Australia
CATEGORIES:Parents,School,Students
ORGANIZER;CN="Belmont City College":MAILTO:belmontcc@belmontcc.wa.edu.au
END:VEVENT
BEGIN:VEVENT
DTSTART;TZID=Australia/Perth:20251006T080000
DTEND;TZID=Australia/Perth:20251010T170000
DTSTAMP:20260420T060503
CREATED:20250206T031935Z
LAST-MODIFIED:20250206T031935Z
UID:10003562-1759737600-1760115600@www.belmontcc.wa.edu.au
SUMMARY:Year 12 ATAR Exams
DESCRIPTION:
URL:https://www.belmontcc.wa.edu.au/event/year-12-atar-exams/
LOCATION:Belmont City College\, 108 Fisher Street\, Belmont\, WA\, 6104\, Australia
CATEGORIES:Examinations,Parents,School,Students
END:VEVENT
BEGIN:VEVENT
DTSTART;TZID=Australia/Perth:20251013T080000
DTEND;TZID=Australia/Perth:20251013T150000
DTSTAMP:20260420T060503
CREATED:20241204T042052Z
LAST-MODIFIED:20241204T042052Z
UID:10002959-1760342400-1760367600@www.belmontcc.wa.edu.au
SUMMARY:School Development Days - No students
DESCRIPTION:
URL:https://www.belmontcc.wa.edu.au/event/school-development-days-no-students-10/
LOCATION:Belmont City College\, 108 Fisher Street\, Belmont\, WA\, 6104\, Australia
CATEGORIES:Parents,School,School Development Days,Students
ORGANIZER;CN="Belmont City College":MAILTO:belmontcc@belmontcc.wa.edu.au
END:VEVENT
BEGIN:VEVENT
DTSTART;TZID=Australia/Perth:20251014T080000
DTEND;TZID=Australia/Perth:20251014T150000
DTSTAMP:20260420T060503
CREATED:20250206T034352Z
LAST-MODIFIED:20250206T034352Z
UID:10003563-1760428800-1760454000@www.belmontcc.wa.edu.au
SUMMARY:Students commence Term 4\, 2025
DESCRIPTION:
URL:https://www.belmontcc.wa.edu.au/event/students-commence-term-4-2025/
LOCATION:Belmont City College\, 108 Fisher Street\, Belmont\, WA\, 6104\, Australia
CATEGORIES:Parents,School,Students
ORGANIZER;CN="Belmont City College":MAILTO:belmontcc@belmontcc.wa.edu.au
END:VEVENT
END:VCALENDAR